BEGIN:VCALENDAR
VERSION:2.0
PRODID:-//District Grand Priory of Strathclyde - ECPv6.15.20//NONSGML v1.0//EN
CALSCALE:GREGORIAN
METHOD:PUBLISH
X-WR-CALNAME:District Grand Priory of Strathclyde
X-ORIGINAL-URL:https://dgpstrathclyde.org.uk
X-WR-CALDESC:Events for District Grand Priory of Strathclyde
REFRESH-INTERVAL;VALUE=DURATION:PT1H
X-Robots-Tag:noindex
X-PUBLISHED-TTL:PT1H
BEGIN:VTIMEZONE
TZID:UTC
BEGIN:STANDARD
TZOFFSETFROM:+0000
TZOFFSETTO:+0000
TZNAME:UTC
DTSTART:20250101T000000
END:STANDARD
END:VTIMEZONE
BEGIN:VEVENT
DTSTART;TZID=UTC:20260209T193000
DTEND;TZID=UTC:20260209T223000
DTSTAMP:20260420T115350
CREATED:20260204T165636Z
LAST-MODIFIED:20260204T165636Z
UID:677-1770665400-1770676200@dgpstrathclyde.org.uk
SUMMARY:Annual Visit to St John Cambuslang
DESCRIPTION:On Monday the 9th February The District Grand Priory of Strathclyde will be at The Preceptory of St John Cambuslang for their Annual District Visit. Kittoch Street\, East Kilbride\, G74 4JW
URL:https://dgpstrathclyde.org.uk/event/annual-visit-to-st-john-cambuslang/
LOCATION:Kittoch St Masonic Hall\, Kittoch Street\, East Kilbride\, Strathclyde\, G74 4JW\, United Kingdom
END:VEVENT
END:VCALENDAR