BEGIN:VCALENDAR
VERSION:2.0
PRODID:-//District Grand Priory of Strathclyde - ECPv6.15.20//NONSGML v1.0//EN
CALSCALE:GREGORIAN
METHOD:PUBLISH
X-WR-CALNAME:District Grand Priory of Strathclyde
X-ORIGINAL-URL:https://dgpstrathclyde.org.uk
X-WR-CALDESC:Events for District Grand Priory of Strathclyde
REFRESH-INTERVAL;VALUE=DURATION:PT1H
X-Robots-Tag:noindex
X-PUBLISHED-TTL:PT1H
BEGIN:VTIMEZONE
TZID:UTC
BEGIN:STANDARD
TZOFFSETFROM:+0000
TZOFFSETTO:+0000
TZNAME:UTC
DTSTART:20250101T000000
END:STANDARD
END:VTIMEZONE
BEGIN:VEVENT
DTSTART;TZID=UTC:20260211T193000
DTEND;TZID=UTC:20260211T223000
DTSTAMP:20260420T132141
CREATED:20260204T164245Z
LAST-MODIFIED:20260204T165131Z
UID:670-1770838200-1770849000@dgpstrathclyde.org.uk
SUMMARY:Annual District Visit Kilpatrick
DESCRIPTION:On Wednesday the 11th February The District Grand Priory of Strathclyde will be at The Preceptory of Kilpatrick for their Annual District Visit. Lodge Barns O’Clyde\, 112 Second Avenue\, Clydebank\, G81 1SW
URL:https://dgpstrathclyde.org.uk/event/annual-district-visit-st-john-cambuslang/
LOCATION:Lodge Barns O’Clyde\, 112 Second Avenue\, Clydebank\, Strathclyde\, G81 1SW\, United Kingdom
END:VEVENT
END:VCALENDAR