BEGIN:VCALENDAR
VERSION:2.0
PRODID:-//District Grand Priory of Strathclyde - ECPv6.15.20//NONSGML v1.0//EN
CALSCALE:GREGORIAN
METHOD:PUBLISH
X-ORIGINAL-URL:https://dgpstrathclyde.org.uk
X-WR-CALDESC:Events for District Grand Priory of Strathclyde
REFRESH-INTERVAL;VALUE=DURATION:PT1H
X-Robots-Tag:noindex
X-PUBLISHED-TTL:PT1H
BEGIN:VTIMEZONE
TZID:UTC
BEGIN:STANDARD
TZOFFSETFROM:+0000
TZOFFSETTO:+0000
TZNAME:UTC
DTSTART:20250101T000000
END:STANDARD
END:VTIMEZONE
BEGIN:VEVENT
DTSTART;TZID=UTC:20260214T130000
DTEND;TZID=UTC:20260214T170000
DTSTAMP:20260420T131458
CREATED:20260130T202751Z
LAST-MODIFIED:20260130T202751Z
UID:581-1771074000-1771088400@dgpstrathclyde.org.uk
SUMMARY:Annual District Muster 2026
DESCRIPTION:The Annual District Muster will be held on the 14th February 2026\, \nEastmuir Masonic Hall \n1543 Shettleston Road \nShettleston \nG32 9AS \nStart time 1pm.
URL:https://dgpstrathclyde.org.uk/event/annual-district-muster-2026/
END:VEVENT
END:VCALENDAR