BEGIN:VCALENDAR
VERSION:2.0
PRODID:-//District Grand Priory of Strathclyde - ECPv6.15.20//NONSGML v1.0//EN
CALSCALE:GREGORIAN
METHOD:PUBLISH
X-ORIGINAL-URL:https://dgpstrathclyde.org.uk
X-WR-CALDESC:Events for District Grand Priory of Strathclyde
REFRESH-INTERVAL;VALUE=DURATION:PT1H
X-Robots-Tag:noindex
X-PUBLISHED-TTL:PT1H
BEGIN:VTIMEZONE
TZID:UTC
BEGIN:STANDARD
TZOFFSETFROM:+0000
TZOFFSETTO:+0000
TZNAME:UTC
DTSTART:20250101T000000
END:STANDARD
END:VTIMEZONE
BEGIN:VEVENT
DTSTART;TZID=UTC:20260224T193000
DTEND;TZID=UTC:20260224T223000
DTSTAMP:20260420T103252
CREATED:20260204T170146Z
LAST-MODIFIED:20260204T170146Z
UID:679-1771961400-1771972200@dgpstrathclyde.org.uk
SUMMARY:Annual Visit to Preceptory of St Kentigern
DESCRIPTION:On Tuesday the 24th February The District Grand Priory of Strathclyde will be at The Preceptory of St Kentigern for their Annual District Visit. 56 Market Place\, Carluke\, ML8 4BP
URL:https://dgpstrathclyde.org.uk/event/annual-visit-to-preceptory-of-st-kentigern/
LOCATION:St Kentigern\, 56 Market Street\, Carluke\, Strathclyde\, ML8 4BP\, United Kingdom
END:VEVENT
END:VCALENDAR