BEGIN:VCALENDAR
VERSION:2.0
PRODID:-//District Grand Priory of Strathclyde - ECPv6.15.20//NONSGML v1.0//EN
CALSCALE:GREGORIAN
METHOD:PUBLISH
X-WR-CALNAME:District Grand Priory of Strathclyde
X-ORIGINAL-URL:https://dgpstrathclyde.org.uk
X-WR-CALDESC:Events for District Grand Priory of Strathclyde
REFRESH-INTERVAL;VALUE=DURATION:PT1H
X-Robots-Tag:noindex
X-PUBLISHED-TTL:PT1H
BEGIN:VTIMEZONE
TZID:UTC
BEGIN:STANDARD
TZOFFSETFROM:+0000
TZOFFSETTO:+0000
TZNAME:UTC
DTSTART:20250101T000000
END:STANDARD
END:VTIMEZONE
BEGIN:VEVENT
DTSTART;TZID=UTC:20260404T150000
DTEND;TZID=UTC:20260404T170000
DTSTAMP:20260420T101147
CREATED:20260310T173711Z
LAST-MODIFIED:20260310T173711Z
UID:793-1775314800-1775322000@dgpstrathclyde.org.uk
SUMMARY:Annual Visit to the Preceptory of Rising Star
DESCRIPTION:The Annual Visit of the District Grand Priory of Strathclyde will take place on 4th April 2026 at Masonic Hall\,71/75 Main Street\, Forth\, ML11 8AA
URL:https://dgpstrathclyde.org.uk/event/annual-visit-to-the-preceptory-of-rising-star/
LOCATION:Rising Star\, 71-75 Main St\, Forth\, ML11 8AA\, United Kingdom
END:VEVENT
END:VCALENDAR