BEGIN:VCALENDAR
VERSION:2.0
PRODID:-//District Grand Priory of Strathclyde - ECPv6.15.20//NONSGML v1.0//EN
CALSCALE:GREGORIAN
METHOD:PUBLISH
X-WR-CALNAME:District Grand Priory of Strathclyde
X-ORIGINAL-URL:https://dgpstrathclyde.org.uk
X-WR-CALDESC:Events for District Grand Priory of Strathclyde
REFRESH-INTERVAL;VALUE=DURATION:PT1H
X-Robots-Tag:noindex
X-PUBLISHED-TTL:PT1H
BEGIN:VTIMEZONE
TZID:UTC
BEGIN:STANDARD
TZOFFSETFROM:+0000
TZOFFSETTO:+0000
TZNAME:UTC
DTSTART:20250101T000000
END:STANDARD
END:VTIMEZONE
BEGIN:VEVENT
DTSTART;TZID=UTC:20260408T193000
DTEND;TZID=UTC:20260408T220000
DTSTAMP:20260420T085126
CREATED:20260310T174450Z
LAST-MODIFIED:20260310T174450Z
UID:797-1775676600-1775685600@dgpstrathclyde.org.uk
SUMMARY:Annual Visit to the Preceptory of Murdostoun
DESCRIPTION:On Wednesday 8th April 2026 at 7:30PM the District Grand Priory of Strathclyde will be visiting the Preceptory of Murdostoun as part of their Annual Visit.\nMasonic Hall\, Bowling Green Street\, Bellshill\, ML4 1AU
URL:https://dgpstrathclyde.org.uk/event/annual-visit-to-the-preceptory-of-murdostoun/
LOCATION:Murdostoun\, Bowling Green St\, Bellshill\, ML4 1AU\, United Kingdom
END:VEVENT
END:VCALENDAR