BEGIN:VCALENDAR
VERSION:2.0
PRODID:-//District Grand Priory of Strathclyde - ECPv6.15.20//NONSGML v1.0//EN
CALSCALE:GREGORIAN
METHOD:PUBLISH
X-ORIGINAL-URL:https://dgpstrathclyde.org.uk
X-WR-CALDESC:Events for District Grand Priory of Strathclyde
REFRESH-INTERVAL;VALUE=DURATION:PT1H
X-Robots-Tag:noindex
X-PUBLISHED-TTL:PT1H
BEGIN:VTIMEZONE
TZID:UTC
BEGIN:STANDARD
TZOFFSETFROM:+0000
TZOFFSETTO:+0000
TZNAME:UTC
DTSTART:20250101T000000
END:STANDARD
END:VTIMEZONE
BEGIN:VEVENT
DTSTART;TZID=UTC:20260501T193000
DTEND;TZID=UTC:20260501T223000
DTSTAMP:20260420T085625
CREATED:20260319T143558Z
LAST-MODIFIED:20260319T143558Z
UID:867-1777663800-1777674600@dgpstrathclyde.org.uk
SUMMARY:First Muster Meeting of Amalgamation\, Henry Dyer and Murdostoun
DESCRIPTION:On Friday 1st May the First meeting of the Amalgamated Preceptories will take place.\nFurther details to follow.
URL:https://dgpstrathclyde.org.uk/event/first-muster-meeting-of-amalgamation-henry-dyer-and-murdostoun/
LOCATION:Henry Dyer\, 104 Cadzow Street\, Hamilton\, ML3 6HP\, United Kingdom
END:VEVENT
END:VCALENDAR