BEGIN:VCALENDAR
VERSION:2.0
PRODID:-//District Grand Priory of Strathclyde - ECPv6.15.20//NONSGML v1.0//EN
CALSCALE:GREGORIAN
METHOD:PUBLISH
X-ORIGINAL-URL:https://dgpstrathclyde.org.uk
X-WR-CALDESC:Events for District Grand Priory of Strathclyde
REFRESH-INTERVAL;VALUE=DURATION:PT1H
X-Robots-Tag:noindex
X-PUBLISHED-TTL:PT1H
BEGIN:VTIMEZONE
TZID:UTC
BEGIN:STANDARD
TZOFFSETFROM:+0000
TZOFFSETTO:+0000
TZNAME:UTC
DTSTART:20250101T000000
END:STANDARD
END:VTIMEZONE
BEGIN:VEVENT
DTSTART;TZID=UTC:20261001T193000
DTEND;TZID=UTC:20261001T220000
DTSTAMP:20260420T113459
CREATED:20260310T181211Z
LAST-MODIFIED:20260310T181211Z
UID:819-1790883000-1790892000@dgpstrathclyde.org.uk
SUMMARY:Annual Installation of the Preceptory of Strathkelvin
DESCRIPTION:On Thursday 1st October 2026 at 7:30PM The District Grand Priory of Strathclyde will be visiting the Preceptory of Strathkelvin to Witness their Annual Installation. Masonic Hall\, Regent Street\, Kirkintilloch\, G66 1JF
URL:https://dgpstrathclyde.org.uk/event/annual-installation-of-the-preceptory-of-strathkelvin/
LOCATION:Strathkelvin\, Regent Street\, Kirkintilloch\, Strathclyde\, G66 1JF\, United Kingdom
END:VEVENT
END:VCALENDAR