BEGIN:VCALENDAR
VERSION:2.0
PRODID:-//District Grand Priory of Strathclyde - ECPv6.15.20//NONSGML v1.0//EN
CALSCALE:GREGORIAN
METHOD:PUBLISH
X-ORIGINAL-URL:https://dgpstrathclyde.org.uk
X-WR-CALDESC:Events for District Grand Priory of Strathclyde
REFRESH-INTERVAL;VALUE=DURATION:PT1H
X-Robots-Tag:noindex
X-PUBLISHED-TTL:PT1H
BEGIN:VTIMEZONE
TZID:UTC
BEGIN:STANDARD
TZOFFSETFROM:+0000
TZOFFSETTO:+0000
TZNAME:UTC
DTSTART:20250101T000000
END:STANDARD
END:VTIMEZONE
BEGIN:VEVENT
DTSTART;TZID=UTC:20261027T193000
DTEND;TZID=UTC:20261027T220000
DTSTAMP:20260420T125332
CREATED:20260310T182338Z
LAST-MODIFIED:20260310T182338Z
UID:827-1793129400-1793138400@dgpstrathclyde.org.uk
SUMMARY:Annual Installation of the Preceptory of St Kentigern
DESCRIPTION:On Tuesday 27th October 2026 at 7:30PM The District Grand Priory of Strathclyde will be visiting the Preceptory of St Kentigern to Witness their Annual Installation. Masonic Hall\, 56 Market Place\, Carluke\, ML8 4BP
URL:https://dgpstrathclyde.org.uk/event/annual-installation-of-the-preceptory-of-st-kentigern/
LOCATION:St Kentigern\, 56 Market Street\, Carluke\, Strathclyde\, ML8 4BP\, United Kingdom
END:VEVENT
END:VCALENDAR