BEGIN:VCALENDAR
VERSION:2.0
PRODID:-//District Grand Priory of Strathclyde - ECPv6.15.20//NONSGML v1.0//EN
CALSCALE:GREGORIAN
METHOD:PUBLISH
X-WR-CALNAME:District Grand Priory of Strathclyde
X-ORIGINAL-URL:https://dgpstrathclyde.org.uk
X-WR-CALDESC:Events for District Grand Priory of Strathclyde
REFRESH-INTERVAL;VALUE=DURATION:PT1H
X-Robots-Tag:noindex
X-PUBLISHED-TTL:PT1H
BEGIN:VTIMEZONE
TZID:UTC
BEGIN:STANDARD
TZOFFSETFROM:+0000
TZOFFSETTO:+0000
TZNAME:UTC
DTSTART:20250101T000000
END:STANDARD
END:VTIMEZONE
BEGIN:VEVENT
DTSTART;TZID=UTC:20261107T150000
DTEND;TZID=UTC:20261107T170000
DTSTAMP:20260420T141034
CREATED:20260310T184330Z
LAST-MODIFIED:20260310T184330Z
UID:839-1794063600-1794070800@dgpstrathclyde.org.uk
SUMMARY:Annual Installation of Preceptory of Rising Star
DESCRIPTION:On Saturday 7th November 2026 at 3:00PM The District Grand Priory of Strathclyde will be visiting the Preceptory of Rising Star to Witness their Annual Installation. Masonic Hall\, 71-75 Main Street\, Forth\, ML11 8AA
URL:https://dgpstrathclyde.org.uk/event/annual-installation-of-preceptory-of-rising-star/
LOCATION:Rising Star\, 71-75 Main St\, Forth\, ML11 8AA\, United Kingdom
END:VEVENT
END:VCALENDAR