BEGIN:VCALENDAR
VERSION:2.0
PRODID:-//District Grand Priory of Strathclyde - ECPv6.15.20//NONSGML v1.0//EN
CALSCALE:GREGORIAN
METHOD:PUBLISH
X-WR-CALNAME:District Grand Priory of Strathclyde
X-ORIGINAL-URL:https://dgpstrathclyde.org.uk
X-WR-CALDESC:Events for District Grand Priory of Strathclyde
REFRESH-INTERVAL;VALUE=DURATION:PT1H
X-Robots-Tag:noindex
X-PUBLISHED-TTL:PT1H
BEGIN:VTIMEZONE
TZID:UTC
BEGIN:STANDARD
TZOFFSETFROM:+0000
TZOFFSETTO:+0000
TZNAME:UTC
DTSTART:20250101T000000
END:STANDARD
END:VTIMEZONE
BEGIN:VEVENT
DTSTART;TZID=UTC:20261109T193000
DTEND;TZID=UTC:20261109T220000
DTSTAMP:20260420T141250
CREATED:20260310T184549Z
LAST-MODIFIED:20260310T184549Z
UID:841-1794252600-1794261600@dgpstrathclyde.org.uk
SUMMARY:Annual installation of thr Preceptory of Monklands
DESCRIPTION:On Monday 9th November 2026 at 7:30PM The District Grand Priory of Strathclyde will be visiting the Preceptory of Monklands to Witness their Annual Installation. Masonic Hall\, 32 Coltswood Road\, Coatbridge\, ML5 2AA
URL:https://dgpstrathclyde.org.uk/event/annual-installation-of-thr-preceptory-of-monklands/
LOCATION:Monklands\, 32 Coltswood Road\, Coatbridge\, ML5 2AA\, United Kingdom
END:VEVENT
END:VCALENDAR