BEGIN:VCALENDAR
VERSION:2.0
PRODID:-//District Grand Priory of Strathclyde - ECPv6.15.20//NONSGML v1.0//EN
CALSCALE:GREGORIAN
METHOD:PUBLISH
X-WR-CALNAME:District Grand Priory of Strathclyde
X-ORIGINAL-URL:https://dgpstrathclyde.org.uk
X-WR-CALDESC:Events for District Grand Priory of Strathclyde
REFRESH-INTERVAL;VALUE=DURATION:PT1H
X-Robots-Tag:noindex
X-PUBLISHED-TTL:PT1H
BEGIN:VTIMEZONE
TZID:UTC
BEGIN:STANDARD
TZOFFSETFROM:+0000
TZOFFSETTO:+0000
TZNAME:UTC
DTSTART:20250101T000000
END:STANDARD
END:VTIMEZONE
BEGIN:VEVENT
DTSTART;TZID=UTC:20261111T193000
DTEND;TZID=UTC:20261111T220000
DTSTAMP:20260420T165929
CREATED:20260310T184816Z
LAST-MODIFIED:20260310T184816Z
UID:843-1794425400-1794434400@dgpstrathclyde.org.uk
SUMMARY:Annual Istallation of the Preceptory of Murdostoun
DESCRIPTION:On Wednesday 11th November 2026 at 7:30PM The District Grand Priory of Strathclyde will be visiting the Preceptory of Murdostoun to Witness their Annual Installation. Masonic Hall\, Bowling Green Street\, Bellshill\, ML4 1AU
URL:https://dgpstrathclyde.org.uk/event/annual-istallation-of-the-preceptory-of-murdostoun/
LOCATION:Murdostoun\, Bowling Green St\, Bellshill\, ML4 1AU\, United Kingdom
END:VEVENT
BEGIN:VEVENT
DTSTART;TZID=UTC:20261118T193000
DTEND;TZID=UTC:20261118T223000
DTSTAMP:20260420T165929
CREATED:20260310T185130Z
LAST-MODIFIED:20260310T185130Z
UID:845-1795030200-1795041000@dgpstrathclyde.org.uk
SUMMARY:Annual Installation of the Preceptory of Paisley Abbey
DESCRIPTION:On Wednesday 18th October 2026 at 7:30PM The District Grand Priory of Strathclyde will be visiting the Preceptory of Paisley Abbey to Witness their Annual Installation. Masonic Hall\, 68 Maxwellton Road\, Paisley\, PA1 2RD
URL:https://dgpstrathclyde.org.uk/event/annual-installation-of-the-preceptory-of-paisley-abbey/
LOCATION:Paisley Abbey\, 68 Maxwellton Road\, Paisley\, PA1 2RD\, United Kingdom
END:VEVENT
BEGIN:VEVENT
DTSTART;TZID=UTC:20261121T130000
DTEND;TZID=UTC:20261121T170000
DTSTAMP:20260420T165929
CREATED:20260310T185429Z
LAST-MODIFIED:20260310T185429Z
UID:847-1795266000-1795280400@dgpstrathclyde.org.uk
SUMMARY:Annual Installation of the Preceptory of Bute
DESCRIPTION:On Saturday 21st November 2026 at 1:00PM The District Grand Priory of Strathclyde will be visiting the Preceptory of Bute to Witness their Annual Installation. Masonic Hall\, 3 Chapelhill Road\, Rothesay\, PA20 0BJ
URL:https://dgpstrathclyde.org.uk/event/annual-installation-of-the-preceptory-of-bute/
LOCATION:Bute\, 3 Chapelhill Road\, Rothesay\, PA20 0BJ\, United Kingdom
END:VEVENT
BEGIN:VEVENT
DTSTART;TZID=UTC:20261123T193000
DTEND;TZID=UTC:20261123T220000
DTSTAMP:20260420T165929
CREATED:20260310T185918Z
LAST-MODIFIED:20260310T185918Z
UID:849-1795462200-1795471200@dgpstrathclyde.org.uk
SUMMARY:Annual Installation of the Preceptory of St John Cambuslabng
DESCRIPTION:On Monday 23rd November 2026 at 7:30PM The District Grand Priory of Strathclyde will be visiting the Preceptory of St John Cambuslang to Witness their Annual Installation. Masonic Hall\, Kittoch Street\, East Kilbride\, G74 4JW
URL:https://dgpstrathclyde.org.uk/event/annual-installation-of-the-preceptory-of-st-john-cambuslabng/
LOCATION:St John Cambuslag\, Kittoch Street\, East Kilbride\, Strathclyde\, G74 4JW
END:VEVENT
END:VCALENDAR