BEGIN:VCALENDAR
VERSION:2.0
PRODID:-//District Grand Priory of Strathclyde - ECPv6.15.20//NONSGML v1.0//EN
CALSCALE:GREGORIAN
METHOD:PUBLISH
X-ORIGINAL-URL:https://dgpstrathclyde.org.uk
X-WR-CALDESC:Events for District Grand Priory of Strathclyde
REFRESH-INTERVAL;VALUE=DURATION:PT1H
X-Robots-Tag:noindex
X-PUBLISHED-TTL:PT1H
BEGIN:VTIMEZONE
TZID:UTC
BEGIN:STANDARD
TZOFFSETFROM:+0000
TZOFFSETTO:+0000
TZNAME:UTC
DTSTART:20250101T000000
END:STANDARD
END:VTIMEZONE
BEGIN:VEVENT
DTSTART;TZID=UTC:20261001T193000
DTEND;TZID=UTC:20261001T220000
DTSTAMP:20260420T113650
CREATED:20260310T181211Z
LAST-MODIFIED:20260310T181211Z
UID:819-1790883000-1790892000@dgpstrathclyde.org.uk
SUMMARY:Annual Installation of the Preceptory of Strathkelvin
DESCRIPTION:On Thursday 1st October 2026 at 7:30PM The District Grand Priory of Strathclyde will be visiting the Preceptory of Strathkelvin to Witness their Annual Installation. Masonic Hall\, Regent Street\, Kirkintilloch\, G66 1JF
URL:https://dgpstrathclyde.org.uk/event/annual-installation-of-the-preceptory-of-strathkelvin/
LOCATION:Strathkelvin\, Regent Street\, Kirkintilloch\, Strathclyde\, G66 1JF\, United Kingdom
END:VEVENT
BEGIN:VEVENT
DTSTART;TZID=UTC:20261014T193000
DTEND;TZID=UTC:20261014T220000
DTSTAMP:20260420T113650
CREATED:20260310T181612Z
LAST-MODIFIED:20260310T181612Z
UID:822-1792006200-1792015200@dgpstrathclyde.org.uk
SUMMARY:Annual Installation of the Preceptory of Kilpatrick
DESCRIPTION:On Wednesday 14th October 2026 at 7:30PM The District Grand Priory of Strathclyde will be visiting the Preceptory of Kilpatrick to Witness their Annual Installation. Lodge Barns O’Clyde\, 112 Second Avenue\, Clydebank\, G81 1SW
URL:https://dgpstrathclyde.org.uk/event/annual-installation-of-the-preceptory-of-kilpatrick/
LOCATION:Lodge Barns O’Clyde\, 112 Second Avenue\, Clydebank\, Strathclyde\, G81 1SW\, United Kingdom
END:VEVENT
BEGIN:VEVENT
DTSTART;TZID=UTC:20261023T191500
DTEND;TZID=UTC:20261023T220000
DTSTAMP:20260420T113650
CREATED:20260310T182024Z
LAST-MODIFIED:20260310T182024Z
UID:824-1792782900-1792792800@dgpstrathclyde.org.uk
SUMMARY:Annual Installation of the Preceptory of St John Glasgow
DESCRIPTION:On Friday 23rd October 2026 at 7:30PM The District Grand Priory of Strathclyde will be visiting the Preceptory of St John to Witness their Annual Installation. Masonic Hall\, 66 Garrowhill Drive\, Glasgow\, G69 6NT
URL:https://dgpstrathclyde.org.uk/event/annual-installation-of-the-preceptory-of-st-john-glasgow/
LOCATION:St John Glasgow\, 66 Garrowhill Drive\, Glasgow\, Strathclyde\, G69 6NT
END:VEVENT
BEGIN:VEVENT
DTSTART;TZID=UTC:20261026T193000
DTEND;TZID=UTC:20261026T230000
DTSTAMP:20260420T113650
CREATED:20260310T180749Z
LAST-MODIFIED:20260310T180749Z
UID:816-1793043000-1793055600@dgpstrathclyde.org.uk
SUMMARY:Annual Installation of Preceptory of St George
DESCRIPTION:On Monday 26th October 2026 at 7:30PM The District Grand Priory of Strathclyde will be visiting the Preceptory of St George to Witness their Annual Installation. Eastmuir Masonic Hall\, 1543 Shettleston Road\, Glasgow\, G32 9AS
URL:https://dgpstrathclyde.org.uk/event/annual-installation-of-preceptory-of-st-george/
LOCATION:St George\, 1543 Shettleston Road\, Glasgow\, G32 9AS\, United Kingdom
END:VEVENT
BEGIN:VEVENT
DTSTART;TZID=UTC:20261027T193000
DTEND;TZID=UTC:20261027T220000
DTSTAMP:20260420T113650
CREATED:20260310T182338Z
LAST-MODIFIED:20260310T182338Z
UID:827-1793129400-1793138400@dgpstrathclyde.org.uk
SUMMARY:Annual Installation of the Preceptory of St Kentigern
DESCRIPTION:On Tuesday 27th October 2026 at 7:30PM The District Grand Priory of Strathclyde will be visiting the Preceptory of St Kentigern to Witness their Annual Installation. Masonic Hall\, 56 Market Place\, Carluke\, ML8 4BP
URL:https://dgpstrathclyde.org.uk/event/annual-installation-of-the-preceptory-of-st-kentigern/
LOCATION:St Kentigern\, 56 Market Street\, Carluke\, Strathclyde\, ML8 4BP\, United Kingdom
END:VEVENT
BEGIN:VEVENT
DTSTART;TZID=UTC:20261028T193000
DTEND;TZID=UTC:20261028T220000
DTSTAMP:20260420T113650
CREATED:20260310T182614Z
LAST-MODIFIED:20260310T182614Z
UID:829-1793215800-1793224800@dgpstrathclyde.org.uk
SUMMARY:Annual Installation of the Preceptory of Banks of Avon
DESCRIPTION:On Wednesday 28th October 2026 at 7:30PM The District Grand Priory of Strathclyde will be visiting the Preceptory of Banks of Avon to Witness their Annual Installation. Masonic Hall\, Green St\, Stonehouse\, ML11 3JH
URL:https://dgpstrathclyde.org.uk/event/annual-installation-of-the-preceptory-of-banks-of-avon/
LOCATION:Banks of Avon\, Green St\, Stonehouse\, ML11 3JN\, United Kingdom
END:VEVENT
END:VCALENDAR